BEGIN:VCALENDAR
VERSION:2.0
PRODID:-//Noelle Larue - ECPv6.15.20//NONSGML v1.0//EN
CALSCALE:GREGORIAN
METHOD:PUBLISH
X-WR-CALNAME:Noelle Larue
X-ORIGINAL-URL:https://noellelarue.com
X-WR-CALDESC:Events for Noelle Larue
REFRESH-INTERVAL;VALUE=DURATION:PT1H
X-Robots-Tag:noindex
X-PUBLISHED-TTL:PT1H
BEGIN:VTIMEZONE
TZID:America/Los_Angeles
BEGIN:DAYLIGHT
TZOFFSETFROM:-0800
TZOFFSETTO:-0700
TZNAME:PDT
DTSTART:20250309T100000
END:DAYLIGHT
BEGIN:STANDARD
TZOFFSETFROM:-0700
TZOFFSETTO:-0800
TZNAME:PST
DTSTART:20251102T090000
END:STANDARD
BEGIN:DAYLIGHT
TZOFFSETFROM:-0800
TZOFFSETTO:-0700
TZNAME:PDT
DTSTART:20260308T100000
END:DAYLIGHT
BEGIN:STANDARD
TZOFFSETFROM:-0700
TZOFFSETTO:-0800
TZNAME:PST
DTSTART:20261101T090000
END:STANDARD
BEGIN:DAYLIGHT
TZOFFSETFROM:-0800
TZOFFSETTO:-0700
TZNAME:PDT
DTSTART:20270314T100000
END:DAYLIGHT
BEGIN:STANDARD
TZOFFSETFROM:-0700
TZOFFSETTO:-0800
TZNAME:PST
DTSTART:20271107T090000
END:STANDARD
END:VTIMEZONE
BEGIN:VEVENT
DTSTART;VALUE=DATE:20260427
DTEND;VALUE=DATE:20260501
DTSTAMP:20260423T013125
CREATED:20260401T164758Z
LAST-MODIFIED:20260421T000328Z
UID:3397-1777248000-1777593599@noellelarue.com
SUMMARY:Sacramento
DESCRIPTION:
URL:https://noellelarue.com/event/sacramento-33/
END:VEVENT
BEGIN:VEVENT
DTSTART;VALUE=DATE:20260504
DTEND;VALUE=DATE:20260508
DTSTAMP:20260423T013125
CREATED:20260421T000459Z
LAST-MODIFIED:20260421T000459Z
UID:3454-1777852800-1778198399@noellelarue.com
SUMMARY:Sacramento
DESCRIPTION:
URL:https://noellelarue.com/event/sacramento-34/
END:VEVENT
BEGIN:VEVENT
DTSTART;VALUE=DATE:20260511
DTEND;VALUE=DATE:20260522
DTSTAMP:20260423T013125
CREATED:20260421T000640Z
LAST-MODIFIED:20260421T000640Z
UID:3456-1778457600-1779407999@noellelarue.com
SUMMARY:Sacramento
DESCRIPTION:
URL:https://noellelarue.com/event/sacramento-38/
END:VEVENT
BEGIN:VEVENT
DTSTART;VALUE=DATE:20260526
DTEND;VALUE=DATE:20260601
DTSTAMP:20260423T013125
CREATED:20260421T000731Z
LAST-MODIFIED:20260421T000731Z
UID:3458-1779753600-1780271999@noellelarue.com
SUMMARY:Sacramento
DESCRIPTION:
URL:https://noellelarue.com/event/sacramento-39/
END:VEVENT
END:VCALENDAR