BEGIN:VCALENDAR
VERSION:2.0
PRODID:-//Noelle Larue - ECPv6.15.20//NONSGML v1.0//EN
CALSCALE:GREGORIAN
METHOD:PUBLISH
X-ORIGINAL-URL:https://noellelarue.com
X-WR-CALDESC:Events for Noelle Larue
REFRESH-INTERVAL;VALUE=DURATION:PT1H
X-Robots-Tag:noindex
X-PUBLISHED-TTL:PT1H
BEGIN:VTIMEZONE
TZID:America/Los_Angeles
BEGIN:DAYLIGHT
TZOFFSETFROM:-0800
TZOFFSETTO:-0700
TZNAME:PDT
DTSTART:20220313T100000
END:DAYLIGHT
BEGIN:STANDARD
TZOFFSETFROM:-0700
TZOFFSETTO:-0800
TZNAME:PST
DTSTART:20221106T090000
END:STANDARD
BEGIN:DAYLIGHT
TZOFFSETFROM:-0800
TZOFFSETTO:-0700
TZNAME:PDT
DTSTART:20230312T100000
END:DAYLIGHT
BEGIN:STANDARD
TZOFFSETFROM:-0700
TZOFFSETTO:-0800
TZNAME:PST
DTSTART:20231105T090000
END:STANDARD
BEGIN:DAYLIGHT
TZOFFSETFROM:-0800
TZOFFSETTO:-0700
TZNAME:PDT
DTSTART:20240310T100000
END:DAYLIGHT
BEGIN:STANDARD
TZOFFSETFROM:-0700
TZOFFSETTO:-0800
TZNAME:PST
DTSTART:20241103T090000
END:STANDARD
BEGIN:DAYLIGHT
TZOFFSETFROM:-0800
TZOFFSETTO:-0700
TZNAME:PDT
DTSTART:20250309T100000
END:DAYLIGHT
BEGIN:STANDARD
TZOFFSETFROM:-0700
TZOFFSETTO:-0800
TZNAME:PST
DTSTART:20251102T090000
END:STANDARD
END:VTIMEZONE
BEGIN:VEVENT
DTSTART;VALUE=DATE:20240924
DTEND;VALUE=DATE:20240925
DTSTAMP:20260423T052315
CREATED:20240825T202124Z
LAST-MODIFIED:20240923T041151Z
UID:2895-1727136000-1727222399@noellelarue.com
SUMMARY:Sacramento
DESCRIPTION:
URL:https://noellelarue.com/event/sacramento-or-fmty-7/
END:VEVENT
BEGIN:VEVENT
DTSTART;VALUE=DATE:20240911
DTEND;VALUE=DATE:20240914
DTSTAMP:20260423T052315
CREATED:20240825T203014Z
LAST-MODIFIED:20240905T005428Z
UID:2904-1726012800-1726271999@noellelarue.com
SUMMARY:San Francisco (Union Square)
DESCRIPTION: 
URL:https://noellelarue.com/event/san-jose/
END:VEVENT
BEGIN:VEVENT
DTSTART;VALUE=DATE:20240902
DTEND;VALUE=DATE:20240912
DTSTAMP:20260423T052315
CREATED:20240825T202032Z
LAST-MODIFIED:20240825T202950Z
UID:2893-1725235200-1726099199@noellelarue.com
SUMMARY:Sacramento
DESCRIPTION:
URL:https://noellelarue.com/event/sacramento-or-fmty-5/
END:VEVENT
BEGIN:VEVENT
DTSTART;VALUE=DATE:20240826
DTEND;VALUE=DATE:20240830
DTSTAMP:20260423T052315
CREATED:20240813T045354Z
LAST-MODIFIED:20240821T163222Z
UID:2889-1724630400-1724975999@noellelarue.com
SUMMARY:Sacramento
DESCRIPTION:
URL:https://noellelarue.com/event/sacramento-31/
END:VEVENT
BEGIN:VEVENT
DTSTART;VALUE=DATE:20240801
DTEND;VALUE=DATE:20240806
DTSTAMP:20260423T052315
CREATED:20240730T001659Z
LAST-MODIFIED:20240730T001659Z
UID:2868-1722470400-1722902399@noellelarue.com
SUMMARY:Sacramento
DESCRIPTION:
URL:https://noellelarue.com/event/sacramento-26/
END:VEVENT
BEGIN:VEVENT
DTSTART;VALUE=DATE:20240726
DTEND;VALUE=DATE:20240801
DTSTAMP:20260423T052315
CREATED:20240627T151734Z
LAST-MODIFIED:20240730T002849Z
UID:2861-1721952000-1722470399@noellelarue.com
SUMMARY:Sacramento
DESCRIPTION:
URL:https://noellelarue.com/event/sacramento-or-fmty-6/
END:VEVENT
BEGIN:VEVENT
DTSTART;VALUE=DATE:20240512
DTEND;VALUE=DATE:20240517
DTSTAMP:20260423T052315
CREATED:20240428T225910Z
LAST-MODIFIED:20240428T225910Z
UID:2793-1715472000-1715903999@noellelarue.com
SUMMARY:Sacramento
DESCRIPTION:
URL:https://noellelarue.com/event/sacramento-25/
END:VEVENT
BEGIN:VEVENT
DTSTART;VALUE=DATE:20240508
DTEND;VALUE=DATE:20240509
DTSTAMP:20260423T052315
CREATED:20240428T225714Z
LAST-MODIFIED:20240507T162020Z
UID:2790-1715126400-1715212799@noellelarue.com
SUMMARY:Sacramento
DESCRIPTION:
URL:https://noellelarue.com/event/sacramento-24/
END:VEVENT
BEGIN:VEVENT
DTSTART;VALUE=DATE:20240427
DTEND;VALUE=DATE:20240501
DTSTAMP:20260423T052315
CREATED:20240325T235609Z
LAST-MODIFIED:20240429T172749Z
UID:2772-1714176000-1714521599@noellelarue.com
SUMMARY:Sacramento
DESCRIPTION:
URL:https://noellelarue.com/event/sacramento-27/
END:VEVENT
BEGIN:VEVENT
DTSTART;VALUE=DATE:20240415
DTEND;VALUE=DATE:20240420
DTSTAMP:20260423T052315
CREATED:20240313T180023Z
LAST-MODIFIED:20240313T180023Z
UID:2751-1713139200-1713571199@noellelarue.com
SUMMARY:Charlotte (South Park)
DESCRIPTION:
URL:https://noellelarue.com/event/charlotte-south-park-3/
END:VEVENT
BEGIN:VEVENT
DTSTART;VALUE=DATE:20240326
DTEND;VALUE=DATE:20240401
DTSTAMP:20260423T052315
CREATED:20240325T235235Z
LAST-MODIFIED:20240325T235235Z
UID:2768-1711411200-1711929599@noellelarue.com
SUMMARY:Sacramento
DESCRIPTION:
URL:https://noellelarue.com/event/sacramento-28/
END:VEVENT
BEGIN:VEVENT
DTSTART;VALUE=DATE:20240319
DTEND;VALUE=DATE:20240323
DTSTAMP:20260423T052315
CREATED:20240206T033617Z
LAST-MODIFIED:20240206T033617Z
UID:2741-1710806400-1711151999@noellelarue.com
SUMMARY:Sacramento-duos w/LilyGFE! 👯‍♀️
DESCRIPTION:
URL:https://noellelarue.com/event/sacramento-duos-w-lilygfe-%f0%9f%91%af%e2%99%80%ef%b8%8f/
END:VEVENT
BEGIN:VEVENT
DTSTART;VALUE=DATE:20240229
DTEND;VALUE=DATE:20240301
DTSTAMP:20260423T052315
CREATED:20240127T073132Z
LAST-MODIFIED:20240206T033859Z
UID:2733-1709164800-1709251199@noellelarue.com
SUMMARY:South Bay (Sunnyvale)
DESCRIPTION:
URL:https://noellelarue.com/event/south-bay-sunnyvale/
END:VEVENT
BEGIN:VEVENT
DTSTART;VALUE=DATE:20240227
DTEND;VALUE=DATE:20240228
DTSTAMP:20260423T052315
CREATED:20240103T030816Z
LAST-MODIFIED:20240224T221618Z
UID:2694-1708992000-1709078399@noellelarue.com
SUMMARY:Sacramento
DESCRIPTION:
URL:https://noellelarue.com/event/tba-2/
END:VEVENT
BEGIN:VEVENT
DTSTART;VALUE=DATE:20240210
DTEND;VALUE=DATE:20240216
DTSTAMP:20260423T052315
CREATED:20240103T030337Z
LAST-MODIFIED:20240103T041436Z
UID:2688-1707523200-1708041599@noellelarue.com
SUMMARY:Charlotte (South Park)
DESCRIPTION:
URL:https://noellelarue.com/event/charlotte-south-park-2/
END:VEVENT
BEGIN:VEVENT
DTSTART;VALUE=DATE:20240208
DTEND;VALUE=DATE:20240210
DTSTAMP:20260423T052315
CREATED:20240103T030255Z
LAST-MODIFIED:20240103T054322Z
UID:2686-1707350400-1707523199@noellelarue.com
SUMMARY:Atlanta (midtown)
DESCRIPTION:
URL:https://noellelarue.com/event/atlanta-midtown/
END:VEVENT
BEGIN:VEVENT
DTSTART;VALUE=DATE:20240130
DTEND;VALUE=DATE:20240201
DTSTAMP:20260423T052315
CREATED:20240109T033156Z
LAST-MODIFIED:20240111T013255Z
UID:2700-1706572800-1706745599@noellelarue.com
SUMMARY:Seattle (Bellevue)
DESCRIPTION:
URL:https://noellelarue.com/event/seattle/
END:VEVENT
BEGIN:VEVENT
DTSTART;VALUE=DATE:20231212
DTEND;VALUE=DATE:20231216
DTSTAMP:20260423T052315
CREATED:20231101T011515Z
LAST-MODIFIED:20231107T023007Z
UID:2649-1702339200-1702684799@noellelarue.com
SUMMARY:Tyson's Corner *inquire about doubles!
DESCRIPTION:
URL:https://noellelarue.com/event/tysons-corner-doubles-available/
END:VEVENT
BEGIN:VEVENT
DTSTART;VALUE=DATE:20231209
DTEND;VALUE=DATE:20231212
DTSTAMP:20260423T052315
CREATED:20231101T011418Z
LAST-MODIFIED:20231101T011418Z
UID:2647-1702080000-1702339199@noellelarue.com
SUMMARY:Raleigh (Crabtree)
DESCRIPTION:
URL:https://noellelarue.com/event/raleigh-crabtree/
END:VEVENT
BEGIN:VEVENT
DTSTART;VALUE=DATE:20231205
DTEND;VALUE=DATE:20231210
DTSTAMP:20260423T052315
CREATED:20231101T011306Z
LAST-MODIFIED:20231101T011306Z
UID:2645-1701734400-1702166399@noellelarue.com
SUMMARY:Charlotte (South Park)
DESCRIPTION:
URL:https://noellelarue.com/event/charlotte-south-park/
END:VEVENT
BEGIN:VEVENT
DTSTART;VALUE=DATE:20231024
DTEND;VALUE=DATE:20231030
DTSTAMP:20260423T052315
CREATED:20230927T202550Z
LAST-MODIFIED:20230927T223640Z
UID:2629-1698105600-1698623999@noellelarue.com
SUMMARY:Sacramento
DESCRIPTION:
URL:https://noellelarue.com/event/sacramento-or-fmty-4/
END:VEVENT
BEGIN:VEVENT
DTSTART;VALUE=DATE:20231017
DTEND;VALUE=DATE:20231023
DTSTAMP:20260423T052315
CREATED:20230927T202500Z
LAST-MODIFIED:20230927T202500Z
UID:2627-1697500800-1698019199@noellelarue.com
SUMMARY:Sacramento
DESCRIPTION:
URL:https://noellelarue.com/event/sacramento-23/
END:VEVENT
BEGIN:VEVENT
DTSTART;VALUE=DATE:20231010
DTEND;VALUE=DATE:20231016
DTSTAMP:20260423T052315
CREATED:20230927T202414Z
LAST-MODIFIED:20230927T223603Z
UID:2625-1696896000-1697414399@noellelarue.com
SUMMARY:Sacramento
DESCRIPTION:
URL:https://noellelarue.com/event/sacramento-or-fmty/
END:VEVENT
BEGIN:VEVENT
DTSTART;VALUE=DATE:20231001
DTEND;VALUE=DATE:20231009
DTSTAMP:20260423T052315
CREATED:20230927T202328Z
LAST-MODIFIED:20230927T202328Z
UID:2623-1696118400-1696809599@noellelarue.com
SUMMARY:Sacramento
DESCRIPTION:
URL:https://noellelarue.com/event/sacramento-22/
END:VEVENT
BEGIN:VEVENT
DTSTART;VALUE=DATE:20230926
DTEND;VALUE=DATE:20230930
DTSTAMP:20260423T052315
CREATED:20230717T211103Z
LAST-MODIFIED:20230925T212007Z
UID:2604-1695686400-1696031999@noellelarue.com
SUMMARY:Sacramento or FMTY
DESCRIPTION:
URL:https://noellelarue.com/event/tba-%f0%9f%91%80-2/
END:VEVENT
BEGIN:VEVENT
DTSTART;VALUE=DATE:20230918
DTEND;VALUE=DATE:20230924
DTSTAMP:20260423T052315
CREATED:20230717T193021Z
LAST-MODIFIED:20230829T032811Z
UID:2597-1694995200-1695513599@noellelarue.com
SUMMARY:Charlotte (South Park)
DESCRIPTION:
URL:https://noellelarue.com/event/tba-%f0%9f%91%80/
END:VEVENT
BEGIN:VEVENT
DTSTART;VALUE=DATE:20230916
DTEND;VALUE=DATE:20230918
DTSTAMP:20260423T052315
CREATED:20230717T192736Z
LAST-MODIFIED:20230829T033008Z
UID:2595-1694822400-1694995199@noellelarue.com
SUMMARY:Unavailable
DESCRIPTION:
URL:https://noellelarue.com/event/tba/
END:VEVENT
BEGIN:VEVENT
DTSTART;VALUE=DATE:20230912
DTEND;VALUE=DATE:20230916
DTSTAMP:20260423T052315
CREATED:20230717T192559Z
LAST-MODIFIED:20230717T192559Z
UID:2593-1694476800-1694822399@noellelarue.com
SUMMARY:Downtown Chicago
DESCRIPTION:
URL:https://noellelarue.com/event/downtown-chicago/
END:VEVENT
BEGIN:VEVENT
DTSTART;VALUE=DATE:20230907
DTEND;VALUE=DATE:20230911
DTSTAMP:20260423T052315
CREATED:20230717T192424Z
LAST-MODIFIED:20230905T040749Z
UID:2590-1694044800-1694390399@noellelarue.com
SUMMARY:Sacramento
DESCRIPTION:
URL:https://noellelarue.com/event/sacramento-20/
END:VEVENT
BEGIN:VEVENT
DTSTART;VALUE=DATE:20230830
DTEND;VALUE=DATE:20230831
DTSTAMP:20260423T052315
CREATED:20230804T232537Z
LAST-MODIFIED:20230807T201135Z
UID:2613-1693353600-1693439999@noellelarue.com
SUMMARY:Cupertino (South bay)
DESCRIPTION:
URL:https://noellelarue.com/event/south-bay/
END:VEVENT
END:VCALENDAR